Workbook

Sheet Socios
A1: Nombre | B1: Teléfono | C1: Fecha de alta | D1: Última visita | E1: Cuota mensual (€) | F1: Estado | G1: Días sin venir | H1: Socio nuevo | I1: Riesgo
A2: Laura Martín | B2: 600111222 | C2: 45912 | D2: 46278 | E2: 45 | F2: activo | G2: =IF(D2="","",TODAY()-D2) | H2: =IF(C2="","",IF(TODAY()-C2<90,"Sí","No")) | I2: =IF(OR(G2="",F2="baja"),"",IF(G2>=(IF(H2="Sí",21,30)),"Crítico",IF(G2>=(IF(H2="Sí",14,21)),"Alto",IF(G2>=(IF(H2="Sí",7,14)),"Medio","Bajo"))))
A3: Javier Ruiz | B3: 600333444 | C3: 46262 | D3: 46293 | E3: 39 | F3: activo | G3: =IF(D3="","",TODAY()-D3) | H3: =IF(C3="","",IF(TODAY()-C3<90,"Sí","No")) | I3: =IF(OR(G3="",F3="baja"),"",IF(G3>=(IF(H3="Sí",21,30)),"Crítico",IF(G3>=(IF(H3="Sí",14,21)),"Alto",IF(G3>=(IF(H3="Sí",7,14)),"Medio","Bajo"))))
A4: Marta Sánchez | B4: 600555666 | C4: 45612 | D4: 46300 | E4: 49 | F4: activo | G4: =IF(D4="","",TODAY()-D4) | H4: =IF(C4="","",IF(TODAY()-C4<90,"Sí","No")) | I4: =IF(OR(G4="",F4="baja"),"",IF(G4>=(IF(H4="Sí",21,30)),"Crítico",IF(G4>=(IF(H4="Sí",14,21)),"Alto",IF(G4>=(IF(H4="Sí",7,14)),"Medio","Bajo"))))
A5: Pablo Gómez | B5: 600777888 | C5: 46112 | D5: 46309 | E5: 35 | F5: activo | G5: =IF(D5="","",TODAY()-D5) | H5: =IF(C5="","",IF(TODAY()-C5<90,"Sí","No")) | I5: =IF(OR(G5="",F5="baja"),"",IF(G5>=(IF(H5="Sí",21,30)),"Crítico",IF(G5>=(IF(H5="Sí",14,21)),"Alto",IF(G5>=(IF(H5="Sí",7,14)),"Medio","Bajo"))))
G6: =IF(D6="","",TODAY()-D6) | H6: =IF(C6="","",IF(TODAY()-C6<90,"Sí","No")) | I6: =IF(OR(G6="",F6="baja"),"",IF(G6>=(IF(H6="Sí",21,30)),"Crítico",IF(G6>=(IF(H6="Sí",14,21)),"Alto",IF(G6>=(IF(H6="Sí",7,14)),"Medio","Bajo"))))
G7: =IF(D7="","",TODAY()-D7) | H7: =IF(C7="","",IF(TODAY()-C7<90,"Sí","No")) | I7: =IF(OR(G7="",F7="baja"),"",IF(G7>=(IF(H7="Sí",21,30)),"Crítico",IF(G7>=(IF(H7="Sí",14,21)),"Alto",IF(G7>=(IF(H7="Sí",7,14)),"Medio","Bajo"))))
G8: =IF(D8="","",TODAY()-D8) | H8: =IF(C8="","",IF(TODAY()-C8<90,"Sí","No")) | I8: =IF(OR(G8="",F8="baja"),"",IF(G8>=(IF(H8="Sí",21,30)),"Crítico",IF(G8>=(IF(H8="Sí",14,21)),"Alto",IF(G8>=(IF(H8="Sí",7,14)),"Medio","Bajo"))))
G9: =IF(D9="","",TODAY()-D9) | H9: =IF(C9="","",IF(TODAY()-C9<90,"Sí","No")) | I9: =IF(OR(G9="",F9="baja"),"",IF(G9>=(IF(H9="Sí",21,30)),"Crítico",IF(G9>=(IF(H9="Sí",14,21)),"Alto",IF(G9>=(IF(H9="Sí",7,14)),"Medio","Bajo"))))
G10: =IF(D10="","",TODAY()-D10) | H10: =IF(C10="","",IF(TODAY()-C10<90,"Sí","No")) | I10: =IF(OR(G10="",F10="baja"),"",IF(G10>=(IF(H10="Sí",21,30)),"Crítico",IF(G10>=(IF(H10="Sí",14,21)),"Alto",IF(G10>=(IF(H10="Sí",7,14)),"Medio","Bajo"))))
G11: =IF(D11="","",TODAY()-D11) | H11: =IF(C11="","",IF(TODAY()-C11<90,"Sí","No")) | I11: =IF(OR(G11="",F11="baja"),"",IF(G11>=(IF(H11="Sí",21,30)),"Crítico",IF(G11>=(IF(H11="Sí",14,21)),"Alto",IF(G11>=(IF(H11="Sí",7,14)),"Medio","Bajo"))))
G12: =IF(D12="","",TODAY()-D12) | H12: =IF(C12="","",IF(TODAY()-C12<90,"Sí","No")) | I12: =IF(OR(G12="",F12="baja"),"",IF(G12>=(IF(H12="Sí",21,30)),"Crítico",IF(G12>=(IF(H12="Sí",14,21)),"Alto",IF(G12>=(IF(H12="Sí",7,14)),"Medio","Bajo"))))
G13: =IF(D13="","",TODAY()-D13) | H13: =IF(C13="","",IF(TODAY()-C13<90,"Sí","No")) | I13: =IF(OR(G13="",F13="baja"),"",IF(G13>=(IF(H13="Sí",21,30)),"Crítico",IF(G13>=(IF(H13="Sí",14,21)),"Alto",IF(G13>=(IF(H13="Sí",7,14)),"Medio","Bajo"))))
G14: =IF(D14="","",TODAY()-D14) | H14: =IF(C14="","",IF(TODAY()-C14<90,"Sí","No")) | I14: =IF(OR(G14="",F14="baja"),"",IF(G14>=(IF(H14="Sí",21,30)),"Crítico",IF(G14>=(IF(H14="Sí",14,21)),"Alto",IF(G14>=(IF(H14="Sí",7,14)),"Medio","Bajo"))))
G15: =IF(D15="","",TODAY()-D15) | H15: =IF(C15="","",IF(TODAY()-C15<90,"Sí","No")) | I15: =IF(OR(G15="",F15="baja"),"",IF(G15>=(IF(H15="Sí",21,30)),"Crítico",IF(G15>=(IF(H15="Sí",14,21)),"Alto",IF(G15>=(IF(H15="Sí",7,14)),"Medio","Bajo"))))
G16: =IF(D16="","",TODAY()-D16) | H16: =IF(C16="","",IF(TODAY()-C16<90,"Sí","No")) | I16: =IF(OR(G16="",F16="baja"),"",IF(G16>=(IF(H16="Sí",21,30)),"Crítico",IF(G16>=(IF(H16="Sí",14,21)),"Alto",IF(G16>=(IF(H16="Sí",7,14)),"Medio","Bajo"))))
G17: =IF(D17="","",TODAY()-D17) | H17: =IF(C17="","",IF(TODAY()-C17<90,"Sí","No")) | I17: =IF(OR(G17="",F17="baja"),"",IF(G17>=(IF(H17="Sí",21,30)),"Crítico",IF(G17>=(IF(H17="Sí",14,21)),"Alto",IF(G17>=(IF(H17="Sí",7,14)),"Medio","Bajo"))))
... G201: =IF(D201="","",TODAY()-D201) | H201: =IF(C201="","",IF(TODAY()-C201<90,"Sí","No")) | I201: =IF(OR(G201="",F201="baja"),"",IF(G201>=(IF(H201="Sí",21,30)),"Crítico",IF(G201>=(IF(H201="Sí",14,21)),"Alto",IF(G201>=(IF(H201="Sí",7,14)),"Medio","Bajo"))))

Sheet Resumen
A1: Resumen de riesgo de baja
A3: Socios activos | B3: =COUNTIFS(Socios!A2:A201,"<>",Socios!F2:F201,"<>baja")
A4: En riesgo crítico | B4: =COUNTIF(Socios!I2:I201,"Crítico")
A5: En riesgo alto | B5: =COUNTIF(Socios!I2:I201,"Alto")
A6: En riesgo medio | B6: =COUNTIF(Socios!I2:I201,"Medio")
A7: Cuota mensual en juego (crítico + alto) | B7: =SUMIF(Socios!I2:I201,"Crítico",Socios!E2:E201)+SUMIF(Socios!I2:I201,"Alto",Socios!E2:E201)
A10: Umbrales orientativos (días sin venir): socio nuevo (<90 días) medio 7, alto 14, crítico 21 · resto medio 14, alto 21, crítico 30. Ajústalos a tu gimnasio.
A12: ¿Quieres que se calcule solo y con el WhatsApp preparado? Prueba Crece Gym gratis 14 días: https://app.crecegym.com
